BEGIN:VCALENDAR
VERSION:2.0
PRODID:-//Australian National Sportsfishing Association Queensland Inc - ECPv6.2.0.1//NONSGML v1.0//EN
CALSCALE:GREGORIAN
METHOD:PUBLISH
X-WR-CALNAME:Australian National Sportsfishing Association Queensland Inc
X-ORIGINAL-URL:https://www.ansaqld.com.au
X-WR-CALDESC:Events for Australian National Sportsfishing Association Queensland Inc
REFRESH-INTERVAL;VALUE=DURATION:PT1H
X-Robots-Tag:noindex
X-PUBLISHED-TTL:PT1H
BEGIN:VTIMEZONE
TZID:Australia/Brisbane
BEGIN:STANDARD
TZOFFSETFROM:+1000
TZOFFSETTO:+1000
TZNAME:AEST
DTSTART:20170101T000000
END:STANDARD
END:VTIMEZONE
BEGIN:VEVENT
DTSTART;TZID=Australia/Brisbane:20170913T080000
DTEND;TZID=Australia/Brisbane:20170922T170000
DTSTAMP:20260423T084433
CREATED:20170314T120612Z
LAST-MODIFIED:20170314T120612Z
UID:2083-1505289600-1506099600@www.ansaqld.com.au
SUMMARY:The Cairns Barefoot Trek
DESCRIPTION:The ANSA 50 Year Celebration is being held in Cairns this year on 23\, 24 and 25th of September\, commencing with a dinner on Friday\, 22nd of September 2017. \nSouthern Brisbane Sports fishing Club is organising a convoy to fish our way to up the conference starting from 13 September2017. \n  \nThere will be a half day’s drive between each stop to allow for stress free travel and camp set-up and pack-up. \n  \nAs a group\, we will have fun and more importantly share the costs and adventure. \n  \nLocal ANSA clubs at each of the locations will provide local knowledge and guidance on where and when to fish for the best results. They may even share a beer and yarn or two!
URL:https://www.ansaqld.com.au/event/the-cairns-barefoot-trek/
ATTACH;FMTTYPE=image/jpeg:https://www.ansaqld.com.au/wp-content/uploads/2017/03/carncaravan.jpg
ORGANIZER;CN="Southern%20Brisbane%20Sportfishing%20Club":MAILTO:johnreid@iinet.net.au
END:VEVENT
BEGIN:VEVENT
DTSTART;VALUE=DATE:20170817
DTEND;VALUE=DATE:20170820
DTSTAMP:20260423T084433
CREATED:20161212T082208Z
LAST-MODIFIED:20170503T124830Z
UID:1918-1502928000-1503187199@www.ansaqld.com.au
SUMMARY:Australian Flyfishing Outfitters - Hinchinbrook Challenge
DESCRIPTION:Find out more and register at: www.nqflyfishers.com/afo-hinchinbrook-flyfishing-challenge-2017.html
URL:https://www.ansaqld.com.au/event/australian-flyfishing-outfitters-hinchinbrook-challenge/
LOCATION:Hinchinbrook Channel\, Cardwell\, Queensland\, 4849\, Australia
ATTACH;FMTTYPE=image/jpeg:https://www.ansaqld.com.au/wp-content/uploads/2016/12/AFO2.jpg
END:VEVENT
BEGIN:VEVENT
DTSTART;VALUE=DATE:20170701
DTEND;VALUE=DATE:20170703
DTSTAMP:20260423T084433
CREATED:20161210T003608Z
LAST-MODIFIED:20161210T003608Z
UID:1912-1498867200-1499039999@www.ansaqld.com.au
SUMMARY:King of the Fitzroy Interclub
DESCRIPTION:Social interclub competition for ANSA QLD members.\nTarget species is King and Blue threadfin.\nAwards for longest king and blue caught by both seniors and juniors. Recognition for angler who tags the most threadfin\nRun in conjunction with the ANSA QLD state executive comittee meeting
URL:https://www.ansaqld.com.au/event/king-of-the-fitzroy-interclub/
LOCATION:Fitzroy River & Keppel Bay\, Rockhampton\, Queensland\, 4700\, Australia
ATTACH;FMTTYPE=image/jpeg:https://www.ansaqld.com.au/wp-content/uploads/2016/12/Ryan.jpg
ORGANIZER;CN="ANSA%20QLD":MAILTO:president@ansaqld.com.au
END:VEVENT
BEGIN:VEVENT
DTSTART;VALUE=DATE:20170618
DTEND;VALUE=DATE:20170619
DTSTAMP:20260423T084433
CREATED:20161209T012510Z
LAST-MODIFIED:20161209T012510Z
UID:1890-1497744000-1497830399@www.ansaqld.com.au
SUMMARY:Corio Bay Classic 2017
DESCRIPTION:
URL:https://www.ansaqld.com.au/event/corio-bay-classic-2017/
LOCATION:Corio Bay\, Corio Bay\, Woodbury\, Queensland\, 4703\, Australia
ATTACH;FMTTYPE=image/jpeg:https://www.ansaqld.com.au/wp-content/uploads/2016/12/CBC2017.jpg
ORGANIZER;CN="Keppel%20Bay%20SFC":MAILTO:sweetjohnston@gmail.com
END:VEVENT
BEGIN:VEVENT
DTSTART;VALUE=DATE:20170429
DTEND;VALUE=DATE:20170502
DTSTAMP:20260423T084433
CREATED:20161209T013123Z
LAST-MODIFIED:20170307T001834Z
UID:1895-1493424000-1493683199@www.ansaqld.com.au
SUMMARY:Statewide Species Challenge 2017
DESCRIPTION:
URL:https://www.ansaqld.com.au/event/statewide-species-challenge-2017/
LOCATION:Queensland\, Queensland\, Queensland\, Australia
ATTACH;FMTTYPE=image/jpeg:https://www.ansaqld.com.au/wp-content/uploads/2016/12/species-challenge.jpg
ORGANIZER;CN="ANSA%20QLD":MAILTO:president@ansaqld.com.au
END:VEVENT
BEGIN:VEVENT
DTSTART;VALUE=DATE:20170428
DTEND;VALUE=DATE:20170501
DTSTAMP:20260423T084433
CREATED:20161209T010128Z
LAST-MODIFIED:20170217T020423Z
UID:1879-1493337600-1493596799@www.ansaqld.com.au
SUMMARY:NQ Sportfishing Championships
DESCRIPTION:
URL:https://www.ansaqld.com.au/event/nq-sportfishing-championships/
LOCATION:Halifax Hall\,  15 Argaet St\, Halifax\, Queensland\, 4850\, Australia
ORGANIZER;CN="Hinchinbrook%20SFC":MAILTO:hinchinbrooksfc@yahoo.com
END:VEVENT
BEGIN:VEVENT
DTSTART;VALUE=DATE:20170310
DTEND;VALUE=DATE:20170313
DTSTAMP:20260423T084433
CREATED:20170110T105933Z
LAST-MODIFIED:20170110T105933Z
UID:1946-1489104000-1489363199@www.ansaqld.com.au
SUMMARY:Tag-a-Toga 2017
DESCRIPTION:
URL:https://www.ansaqld.com.au/event/tag-a-toga-2017/
LOCATION:Borumba Dam\, Imbil\, QLD\, Australia
ATTACH;FMTTYPE=image/jpeg:https://www.ansaqld.com.au/wp-content/uploads/2017/01/toga.jpg
ORGANIZER;CN="Kingaroy%20Sportfishing%20Club":MAILTO:dannishaun@gmail.com
END:VEVENT
BEGIN:VEVENT
DTSTART;VALUE=DATE:20170204
DTEND;VALUE=DATE:20170206
DTSTAMP:20260423T084433
CREATED:20161209T011431Z
LAST-MODIFIED:20161209T224818Z
UID:1883-1486166400-1486339199@www.ansaqld.com.au
SUMMARY:South Burnett Interclub 2017
DESCRIPTION:Event Details: \nhttps://www.ansaqld.com.au/wp-content/uploads/2016/11/KingaroySFC-Interclub1.pdf \nAccomodation: \nbp-dam-fees-and-info-july-2016-2017
URL:https://www.ansaqld.com.au/event/south-burnett-interclub-2017/
LOCATION:Yallakool Park\, Haager Dr\, Moffatdale\, Queensland\, 4605\, Australia
ATTACH;FMTTYPE=image/png:https://www.ansaqld.com.au/wp-content/uploads/2016/11/KingaroySFC-Interclub.png
ORGANIZER;CN="Kingaroy%20Sportfishing%20Club":MAILTO:dannishaun@gmail.com
END:VEVENT
BEGIN:VEVENT
DTSTART;VALUE=DATE:20170101
DTEND;VALUE=DATE:20170601
DTSTAMP:20260423T084433
CREATED:20161209T013439Z
LAST-MODIFIED:20161209T013439Z
UID:1899-1483228800-1496275199@www.ansaqld.com.au
SUMMARY:Screenshot Anglers 2017
DESCRIPTION:
URL:https://www.ansaqld.com.au/event/screenshot-anglers-2017/
LOCATION:Queensland\, Queensland\, Queensland\, Australia
ATTACH;FMTTYPE=image/png:https://www.ansaqld.com.au/wp-content/uploads/2014/06/Screenshot-AnglersBanner.png
ORGANIZER;CN="ANSA%20QLD":MAILTO:president@ansaqld.com.au
END:VEVENT
END:VCALENDAR