BEGIN:VCALENDAR
VERSION:2.0
PRODID:-//Australian National Sportsfishing Association Queensland Inc - ECPv6.2.0.1//NONSGML v1.0//EN
CALSCALE:GREGORIAN
METHOD:PUBLISH
X-WR-CALNAME:Australian National Sportsfishing Association Queensland Inc
X-ORIGINAL-URL:https://www.ansaqld.com.au
X-WR-CALDESC:Events for Australian National Sportsfishing Association Queensland Inc
REFRESH-INTERVAL;VALUE=DURATION:PT1H
X-Robots-Tag:noindex
X-PUBLISHED-TTL:PT1H
BEGIN:VTIMEZONE
TZID:Australia/Brisbane
BEGIN:STANDARD
TZOFFSETFROM:+1000
TZOFFSETTO:+1000
TZNAME:AEST
DTSTART:20240101T000000
END:STANDARD
END:VTIMEZONE
BEGIN:VEVENT
DTSTART;TZID=Australia/Brisbane:20240419T170000
DTEND;TZID=Australia/Brisbane:20240421T150000
DTSTAMP:20260422T185331
CREATED:20230825T120431Z
LAST-MODIFIED:20240417T121753Z
UID:50340-1713546000-1713711600@www.ansaqld.com.au
SUMMARY:STH QLD INTERCLUB CHALLENGE 2024
DESCRIPTION:STH QLD INTERCLUB CHALLENGE 2024  \nDATES: 19th – 21st April 2024 \nHosted by the Kingaroy Sport fishing Club Inc  \nThe Kingaroy Sport Fishing Club along with ANSAQLD are hosting the QLD Interclub Challenge for 2024 and we would like to invite all ANSA members to participate in this social fishing event. Come along and meet members from other ANSAQLD clubs and enjoy a social fishing weekend. This is a friendly club-based fishing competition to promote the spirit of ANSA. All friends and family welcome to come along. \nThe STH QLD Interclub Challenge is a great opportunity for your club members to get together to fish and socialise and compete for the prestigious Champion Club Trophy. There will also be some individual prizes. \n  \nLOCATION: Bjelke-Petersen Dam. Yallakool Park – Haager Dr\, Moffatdale QLD. \nFriday -Meet and Greet from 6pm with the briefing starting at 7pm. Dinner will be supplied and bring your drinks and chairs. \nSaturday – Fishing is 6am to 6pm. \nSunday – Fishing 6am to 12 noon. Hand in sheets.  Lunch supplied Kingaroy and Presentation. \nYou will find us at the main Camp Kitchen near the pool. \n  \nCost and Registration: \nThere is a cost of $10 per person and juniors (under 16) years of age are free. \nAny non-members that wish to participate will also need a pay a temporary membership of $15.00 \nTo register your attendance for the event\, please click on   Register for Interclub \nACCOMMODATION: \nThere are plenty of accommodation options and heaps of room for boats. BOOK NOW. \nTo book a powered site at Yallakool Park\, call Marie on 07 41684746 and when booking mention Kingaroy Sportfish Club. \nYou can find all the accommodation information by visiting the website yallakoolpark.com.au \n  \nFISHING CHALLENGE: \nSTH QLD INTERCLUB TROPHY – This is a Club award and will go to the club with the highest score. \nTo fish on this dam\, you will need a SIPS permit. \nTo receive a prize or trophy\, you will need to be at the Presentation. \nGOOD LUCK\, ENJOY and STAY SAFE ON THE WATER. \n  \nEVENT COMMITTEE CONTACTS: \nFor more information or questions please contact: \nGlen Unverzagt 0429644238 Kingaroy SFC President and Co-ordinator \nKaren Bradwell 0407130585 Kingaroy SFC Event Co-ordinator \nMick King 0409750677   kingsfour@bigpond.com   ANSAQLD Events Co-ordinator \n  \n  \n  \nPREVIOUS INTERCLUB WINNERS \n2024 -? \n2023 – Kingaroy Sportfishing Club (Hosted by Sunshine Coast SFC at Carlo Point\, Rainbow Beach) \n2022 – Redcliffe Peninsula Game & Sportfish Club (Hosted by RPGSC at Redcliffe) \n2021 – Kingaroy Sportfishing Club (Hosted by Ipswich SFC at Somerset Dam)
URL:https://www.ansaqld.com.au/event/sth-qld-interclub-challenge-2024/
ATTACH;FMTTYPE=image/png:https://www.ansaqld.com.au/wp-content/uploads/2023/08/IMG_1825.png
END:VEVENT
END:VCALENDAR