BEGIN:VCALENDAR
VERSION:2.0
PRODID:-//Australian National Sportsfishing Association Queensland Inc - ECPv6.2.0.1//NONSGML v1.0//EN
CALSCALE:GREGORIAN
METHOD:PUBLISH
X-ORIGINAL-URL:https://www.ansaqld.com.au
X-WR-CALDESC:Events for Australian National Sportsfishing Association Queensland Inc
REFRESH-INTERVAL;VALUE=DURATION:PT1H
X-Robots-Tag:noindex
X-PUBLISHED-TTL:PT1H
BEGIN:VTIMEZONE
TZID:Australia/Brisbane
BEGIN:STANDARD
TZOFFSETFROM:+1000
TZOFFSETTO:+1000
TZNAME:AEST
DTSTART:20230101T000000
END:STANDARD
END:VTIMEZONE
BEGIN:VEVENT
DTSTART;TZID=Australia/Brisbane:20230428T180000
DTEND;TZID=Australia/Brisbane:20230430T200000
DTSTAMP:20260425T085100
CREATED:20230123T055939Z
LAST-MODIFIED:20230123T061054Z
UID:43490-1682704800-1682884800@www.ansaqld.com.au
SUMMARY:North Queensland Sportfishing Championships 2023
DESCRIPTION:The Hinchinbrook Sportfishing Club is once again hosting the NQ Champs from the 28th – 30th April 2023. Planning for the event is well underway and the Official Rules and Information can be found by clicking on the link below. \nFor further information contact Adam Royle on 0417610446.
URL:https://www.ansaqld.com.au/event/north-queensland-sportfishing-championships-2023/
ATTACH;FMTTYPE=image/png:https://www.ansaqld.com.au/wp-content/uploads/2017/07/Untitled.png
END:VEVENT
END:VCALENDAR